BEGIN:VCALENDAR
VERSION:2.0
PRODID:icalendar-ruby
CALSCALE:GREGORIAN
METHOD:PUBLISH
BEGIN:VEVENT
DTSTAMP:20260423T012318Z
UID:13-1298883@plcchurch.org
DTSTART:20260823T150000Z
DTEND:20260823T160000Z
CLASS:PUBLIC
CREATED:20260422T191255
DESCRIPTION:Sunday School
LAST-MODIFIED:20260422T191255
LOCATION:
SUMMARY:Sunday School
URL;VALUE=URI:https://www.plcchurch.org/events/sunday-school/2026-08-23
ATTACH;FILENAME=Sunday-School.jpg;FMTTYPE=image/jpeg:https://dq5pwpg1q8ru0.
 cloudfront.net/2025/09/18/17/04/21/91b6d005-4ef6-425a-b0ad-105b5f965d64/Su
 nday-School.jpg
END:VEVENT
END:VCALENDAR
