BEGIN:VCALENDAR
VERSION:2.0
PRODID:icalendar-ruby
CALSCALE:GREGORIAN
METHOD:PUBLISH
BEGIN:VEVENT
DTSTAMP:20260422T070323Z
UID:15-1297677@plcchurch.org
DTSTART:20260930T233000Z
DTEND:20261001T003000Z
CLASS:PUBLIC
CREATED:20260421T202827
DESCRIPTION:6th-8th Graders are invited to Confirmation on Wednesday nights
 ! Dinner is served at 5:45 PM\, and class begins at 6:30 PM. Contact Pasto
 r Ashley with any questions! 
LAST-MODIFIED:20260421T202827
LOCATION:
SUMMARY:Confirmation
URL;VALUE=URI:https://www.plcchurch.org/events/confirmation/2026-09-30
ATTACH;FILENAME=Confirmation.jpg;FMTTYPE=image/jpeg:https://dq5pwpg1q8ru0.c
 loudfront.net/2025/09/18/17/13/48/28eb995e-118f-4c5c-b136-471fa6e5d90f/Con
 firmation.jpg
END:VEVENT
END:VCALENDAR
